BEGIN:VCALENDAR
VERSION:2.0
PRODID:-//Arogya Sena - ECPv6.13.2.1//NONSGML v1.0//EN
CALSCALE:GREGORIAN
METHOD:PUBLISH
X-ORIGINAL-URL:https://arogyasena.in
X-WR-CALDESC:Events for Arogya Sena
REFRESH-INTERVAL;VALUE=DURATION:PT1H
X-Robots-Tag:noindex
X-PUBLISHED-TTL:PT1H
BEGIN:VTIMEZONE
TZID:Asia/Kolkata
BEGIN:STANDARD
TZOFFSETFROM:+0530
TZOFFSETTO:+0530
TZNAME:IST
DTSTART:20210101T000000
END:STANDARD
END:VTIMEZONE
BEGIN:VEVENT
DTSTART;TZID=Asia/Kolkata:20210516T080000
DTEND;TZID=Asia/Kolkata:20210716T080000
DTSTAMP:20260423T211021
CREATED:20210516T052733Z
LAST-MODIFIED:20210614T055219Z
UID:1255-1621152000-1626422400@arogyasena.in
SUMMARY:Auto Ambulance
DESCRIPTION:The Maharashtra Rickshaw Panchayat\, in association with Pune\, Feed the Need\, and Arogya Sena has made available 40 autorickshaws equipped with portable oxygen cylinders to take Covid-19 patients to hospitals free of cost.
URL:https://arogyasena.in/event/auto-ambulance/
LOCATION:Pune\, Maharashtra\, India
ATTACH;FMTTYPE=image/png:https://arogyasena.in/wp-content/uploads/2016/08/Screenshot_20210503-1522252.png
END:VEVENT
END:VCALENDAR